BEGIN:VCALENDAR
VERSION:2.0
PRODID:-//Show &amp; Tale - ECPv6.15.16//NONSGML v1.0//EN
CALSCALE:GREGORIAN
METHOD:PUBLISH
X-WR-CALNAME:Show &amp; Tale
X-ORIGINAL-URL:https://www.showandtales.com
X-WR-CALDESC:Events for Show &amp; Tale
REFRESH-INTERVAL;VALUE=DURATION:PT1H
X-Robots-Tag:noindex
X-PUBLISHED-TTL:PT1H
BEGIN:VTIMEZONE
TZID:America/New_York
BEGIN:DAYLIGHT
TZOFFSETFROM:-0500
TZOFFSETTO:-0400
TZNAME:EDT
DTSTART:20190310T070000
END:DAYLIGHT
BEGIN:STANDARD
TZOFFSETFROM:-0400
TZOFFSETTO:-0500
TZNAME:EST
DTSTART:20191103T060000
END:STANDARD
BEGIN:DAYLIGHT
TZOFFSETFROM:-0500
TZOFFSETTO:-0400
TZNAME:EDT
DTSTART:20200308T070000
END:DAYLIGHT
BEGIN:STANDARD
TZOFFSETFROM:-0400
TZOFFSETTO:-0500
TZNAME:EST
DTSTART:20201101T060000
END:STANDARD
BEGIN:DAYLIGHT
TZOFFSETFROM:-0500
TZOFFSETTO:-0400
TZNAME:EDT
DTSTART:20210314T070000
END:DAYLIGHT
BEGIN:STANDARD
TZOFFSETFROM:-0400
TZOFFSETTO:-0500
TZNAME:EST
DTSTART:20211107T060000
END:STANDARD
BEGIN:DAYLIGHT
TZOFFSETFROM:-0500
TZOFFSETTO:-0400
TZNAME:EDT
DTSTART:20220313T070000
END:DAYLIGHT
BEGIN:STANDARD
TZOFFSETFROM:-0400
TZOFFSETTO:-0500
TZNAME:EST
DTSTART:20221106T060000
END:STANDARD
END:VTIMEZONE
BEGIN:VEVENT
DTSTART;TZID=America/New_York:20210624T183000
DTEND;TZID=America/New_York:20210624T200000
DTSTAMP:20260423T153320
CREATED:20210624T160841Z
LAST-MODIFIED:20230323T215532Z
UID:2955-1624559400-1624564800@www.showandtales.com
SUMMARY:Activists\, Artivists & Archives
DESCRIPTION:In this life there are SO many ways to #RESIST. Do/did you\, a friend\, a lover or an ancestor keep mementos from those activist experiences? Do you or a friend/ancestor use art to lend support to a cause near and dear to your/their heart? \nHow are you documenting your time during the pandemic? \nPink pussy hats? Photos from the Women’s March you participated in? Signs from Black Lives Matter protests? ACT-UP fliers? Standing Rock protest T-shirt? Protest songs? Recipes? Postcards? Handmade posters\, meeting notes\, poems & other pieces of your/their archive that tells your/their resistance story? \nCome across a photo of your great aunt at a rally for a women’s right to vote? Or find a suffragettes sash in your great grandmother’s archives? Newspaper clippings from an ancestor’s participation in the civil rights movement? Or a photo of you with your friends marching on Washington for gay rights & AIDS funding? Was a family member lost in the Triangle Factory fire or fought for worker’s rights after learning of these workers fate? \nShow & Tale is like Antiques Roadshow meets The Moth\, or your favorite Pinterest board come to life! \nEveryone is welcome to share with a 3 minute time limit. No judges\, no prizes\, no competition. And no need to practice!  Just come and Show your object and share its Tale. \nJust want to come and listen? Awesome! Observers are always welcome.
URL:https://www.showandtales.com/event/activists-artivists-archives/
LOCATION:Online via Zoom
CATEGORIES:Virtual Storysharing Salon
ATTACH;FMTTYPE=image/png:https://www.showandtales.com/wp-content/uploads/2017/02/AAA-FB.png
END:VEVENT
BEGIN:VEVENT
DTSTART;TZID=America/New_York:20201228T183000
DTEND;TZID=America/New_York:20201228T200000
DTSTAMP:20260423T153320
CREATED:20201228T171135Z
LAST-MODIFIED:20230323T215551Z
UID:2964-1609180200-1609185600@www.showandtales.com
SUMMARY:Horses\, Ponies & Trophies
DESCRIPTION:Bring an object or photo and share your\, your loved ones or ancestors love story with these big eyed\, big boned wonders or the My Little Pony® variety.  \nShow & Tell or Look & Listen! \nDid you ride horses in your youth? Do you still? Did you grow up on a farm & muck out stalls after school? Do you still have those toy horses you collected as a child or do you still collect them? How about those ribbons\, medals & trophies… are they still around or do you have a photo or 100’s of them? Did you inherit a tack box full of riding gear and didn’t even know your ancestor was an equestrian or owned or worked on a dude ranch? How about those cowboy hats\, boots & spurs?  Do you teach people with special needs how to ride? Or rescued a pony to keep your retired horse company or are you a guy or gal who has a love of My Little Pony®? \nBring these & any other object that has a tail to show and tell. \nLike Antiques Roadshow meets The Moth or Pinterest but in person. \nAnd remember you don’t have to show & tell… you can just look & listen.
URL:https://www.showandtales.com/event/horses-ponies-trophies/
LOCATION:Online via Zoom
CATEGORIES:Virtual Storysharing Salon
ATTACH;FMTTYPE=image/jpeg:https://www.showandtales.com/wp-content/uploads/2018/01/HORSES-PONIES-TWITTER-FLYER.jpg
END:VEVENT
BEGIN:VEVENT
DTSTART;TZID=America/New_York:20201213T130000
DTEND;TZID=America/New_York:20201213T143000
DTSTAMP:20260423T153320
CREATED:20201213T165209Z
LAST-MODIFIED:20230323T215605Z
UID:2920-1607864400-1607869800@www.showandtales.com
SUMMARY:The Family Jewels
DESCRIPTION:Bring a piece of jewelry that has a story… and don’t they all? \nWhy is it important to you?… It can be as simple as you bought it while on a memorable vacation. Or your great grandmother got a pin as a gift from her father. Or the ring your favorite Aunt Kathy gave to you. Or the cuff links & tie clip you inherited from your uncle Tony\, a favorite necklace you got from your mother… \nYou get the picture. Every Thing (jewel or piece of jewelry) has a story. So bring your jewels to show and tell. \nLike Pinterest/Instagram/TBT but in person. Or Antiques Roadshow meets The Moth! \nAnd remember you don’t have to Show & Tell… you can just Look & Listen.
URL:https://www.showandtales.com/event/the-family-jewels/
LOCATION:Online via Zoom
CATEGORIES:Virtual Storysharing Salon
ATTACH;FMTTYPE=image/png:https://www.showandtales.com/wp-content/uploads/2016/02/FAMILY-JEWELS-FB-BANNER.png
END:VEVENT
BEGIN:VEVENT
DTSTART;TZID=America/New_York:20201118T190000
DTEND;TZID=America/New_York:20201118T203000
DTSTAMP:20260423T153320
CREATED:20201118T170354Z
LAST-MODIFIED:20230323T215616Z
UID:2946-1605726000-1605731400@www.showandtales.com
SUMMARY:Morbid Anatomy
DESCRIPTION:We don’t like to think about it\, or perhaps we do\, but death is an integral part of life and should be honored through story-sharing. \nDid you preserve the frog you dissected in high school in a jar\, much to your mother’s dismay?  Or did you save your only child’s very first baby tooth?  Or after your father died\, did you find your grandmother’s art deco jewelry box in the back of a closet with a lock of his hair from his first baby hair cut?  Or maybe you have a child’s urn–with the remains of your first dog–who your parents insisted on cremating rather than burying in the back yard? \nSo bring your bones\, feathers\, teeth\, ashes\, locks of hair\, hair art\, body parts preserved in a jar\, death-related art\, cremation jewelry or urns and share their story. . .Every Thing (death and life-related) has a story. \nShow & Tale is like Antiques Roadshow meets The Moth\, or your favorite Pinterest board come to life!Everyone is welcome to share the story of the thing they keep. \nRemember you don’t have to show and tell. . .you can just look and listen; observers are always welcome!
URL:https://www.showandtales.com/event/morbid-anatomy/
LOCATION:Online via Zoom
CATEGORIES:Virtual Storysharing Salon
ATTACH;FMTTYPE=image/jpeg:https://www.showandtales.com/wp-content/uploads/2016/03/MA_ORANGE.jpg
END:VEVENT
BEGIN:VEVENT
DTSTART;TZID=America/New_York:20201025T130000
DTEND;TZID=America/New_York:20201025T143000
DTSTAMP:20260423T153320
CREATED:20201025T155455Z
LAST-MODIFIED:20230323T215627Z
UID:2925-1603630800-1603636200@www.showandtales.com
SUMMARY:Artifacts\, Prototypes & Archives
DESCRIPTION:I’m over the moon to be participating in this years celebration of New York Archives Week 2020! \nWhat did you save from your time in quarantine? What are you saving still? \nMuseums & Historical Societies want your pandemic stuff and stories. \nWe are ALWAYS living history but now more than ever we KNOW it and these institutions are moving quickly to document our experiences while we’re living them. \nJoin us to share a bit of your pandemic story through a thing you keep. Show & Tell or Look & Listen. \nDid you send more handwritten cards? Or make greeting cards and send them to your loved ones? I know I did! \nDid you make signs? #stayhome or #blacklivesmatter \nWere you the #designatedshopper? \nAre you keeping a journal or documenting your new life as a homeschooling leader/teacher and and and???? \nAre you writing songs or poetry about this time? \nVirtual museum visits or are you teaching or taking online classes you never thought you would before 2020? \nHave you bought some special things for yourself this year? What did you do instead of take that trip you’d been planning for years? \nYou get the picture. Every Thing has a story©.
URL:https://www.showandtales.com/event/artifacts-prototypes-archives/
LOCATION:Online via Zoom
CATEGORIES:Virtual Storysharing Salon
ATTACH;FMTTYPE=image/jpeg:https://www.showandtales.com/wp-content/uploads/2016/02/ARTIFACTS-PROTOTYPES-ARCHIVES-TWITTER-FLYER.jpg
END:VEVENT
BEGIN:VEVENT
DTSTART;TZID=America/New_York:20200927T160000
DTEND;TZID=America/New_York:20200927T173000
DTSTAMP:20260423T153320
CREATED:20200927T162213Z
LAST-MODIFIED:20230323T215635Z
UID:2996-1601222400-1601227800@www.showandtales.com
SUMMARY:Musicians\, Musical Instrument & Muses
DESCRIPTION:Remember that concert? You know\, the one where you wrestled that dude over a drumstick thrown into the crowd? What’s the story behind the electric guitar in your storage unit with the Rolling Stones sticker on it? I love that one about how you learned how to play the musical saw from that lady in the subway. What about that faded ticket stub\, from that Phish concert where you had that super deep conversation with…a hologram version of Abraham Lincoln? Or your grandfather’s violin\, the only thing he brought over from the old country \nJoin Show & Tale for a celebratory afternoon of neighborly love\, lyrical storysharing\, and an incredible display of your music memorabilia\, talents and fun!
URL:https://www.showandtales.com/event/musicians-musical-instrument-muses/
LOCATION:Online via Zoom
CATEGORIES:Virtual Storysharing Salon
ATTACH;FMTTYPE=image/jpeg:https://www.showandtales.com/wp-content/uploads/2020/05/MMM-TWITTER-FLYER.jpg
END:VEVENT
BEGIN:VEVENT
DTSTART;TZID=America/New_York:20200908T190000
DTEND;TZID=America/New_York:20200908T203000
DTSTAMP:20260423T153320
CREATED:20200908T162042Z
LAST-MODIFIED:20230323T215643Z
UID:2992-1599591600-1599597000@www.showandtales.com
SUMMARY:My Favorite Thing (Sports Edition)
DESCRIPTION:Bring your tickets\, caps\, autographed photos\, baseballs\, trading cards\, competition numbers\, old running shoes\, medals\, trophies\, certificates etc etc… all things sports & share the stories. \nCelebrating National Ampersand Day too🎉
URL:https://www.showandtales.com/event/my-favorite-thing-sports-edition/
LOCATION:Online via Zoom
CATEGORIES:Virtual Storysharing Salon
ATTACH;FMTTYPE=image/jpeg:https://www.showandtales.com/wp-content/uploads/2020/05/SPORTS-TWITTER-FLYER.jpg
END:VEVENT
BEGIN:VEVENT
DTSTART;TZID=America/New_York:20200701T140000
DTEND;TZID=America/New_York:20200701T153000
DTSTAMP:20260423T153320
CREATED:20200701T161646Z
LAST-MODIFIED:20230323T215700Z
UID:2980-1593612000-1593617400@www.showandtales.com
SUMMARY:Cards\, Letters & Thank-you Notes
DESCRIPTION:In honor of National Postal Workers Day 2020\, we’re spending the afternoon sharing correspondence stuff & stories. \nDo you hold on to letters\, postcards & thank you notes? Yours or perhaps the ones you found in a trunk or suitcase? WWI/II letters home? Love letters between your parents while they were both serving during the Korean War? Valentine’s cards? Postcards from near & far away places/people…… Bring them to Show & Tale next Tues at BrandedSaloon. Share or listen. \nShow & Tale: Cards\, Letters & Thank you notes \nYou know those cards\, letters & thank you notes tucked away in a drawer or in a box? Or the ones you found in an old trunk in the attic? \nThe letters your parents wrote to one another during the war\, notes between friends or lovers\, letters from the war front\,  Christmas cards through the years\, or thank you notes from a colleague or neighbor. Postcards from far away people & places. Valentines\, notes passed in class between friends\, cards that made you feel loved & supported. Ones that cheered you on when you were feeling discouraged. Camp letters…. the list can go on & on… \nBring a piece of correspondence & share your story.  You are always welcome to simply come to look & listen.
URL:https://www.showandtales.com/event/cards-letters-thank-you-notes/
LOCATION:Online via Zoom
CATEGORIES:Virtual Storysharing Salon
ATTACH;FMTTYPE=image/jpeg:https://www.showandtales.com/wp-content/uploads/2020/05/CLTYN-TWITTER.jpg
END:VEVENT
BEGIN:VEVENT
DTSTART;TZID=America/New_York:20200528T190000
DTEND;TZID=America/New_York:20200528T203000
DTSTAMP:20260423T153320
CREATED:20200528T161528Z
LAST-MODIFIED:20230323T215708Z
UID:2976-1590692400-1590697800@www.showandtales.com
SUMMARY:Scars\, Tats & Piercings
DESCRIPTION:Share your skin story. No winning or losing here\, no pressure to share\, no need to rehearse\, just show us your skin & tell us its tale in 3min or less. \nMany of us are physically changed. Some by our own design (to commemorate that new found love; to forget that painful break-up; to show the world your allegiance to an author\, artists\, a musician\, a way of thinking\, to remind us we are still alive). Some by our own run-in with an accident or mistake (like that time you had the situation with that car window) or an illness. And some by our need to just change. With these changes come stories. Every Thing has a story ©. \nShow & share the life story etched into your skin! Or simply look & listen. \nBaring skin & soul. \nShow & Tale is like Antiques Roadshow meets The Moth\, or your favorite Pinterest board come to life!
URL:https://www.showandtales.com/event/scars-tats-piercings/
LOCATION:Online via Zoom
CATEGORIES:Virtual Storysharing Salon
ATTACH;FMTTYPE=image/jpeg:https://www.showandtales.com/wp-content/uploads/2016/11/SCARS-TATS-PIERCINGS-TWITTER.jpg
END:VEVENT
END:VCALENDAR