BEGIN:VCALENDAR
VERSION:2.0
PRODID:-//Show &amp; Tale - ECPv6.15.16//NONSGML v1.0//EN
CALSCALE:GREGORIAN
METHOD:PUBLISH
X-ORIGINAL-URL:https://www.showandtales.com
X-WR-CALDESC:Events for Show &amp; Tale
REFRESH-INTERVAL;VALUE=DURATION:PT1H
X-Robots-Tag:noindex
X-PUBLISHED-TTL:PT1H
BEGIN:VTIMEZONE
TZID:America/New_York
BEGIN:DAYLIGHT
TZOFFSETFROM:-0500
TZOFFSETTO:-0400
TZNAME:EDT
DTSTART:20220313T070000
END:DAYLIGHT
BEGIN:STANDARD
TZOFFSETFROM:-0400
TZOFFSETTO:-0500
TZNAME:EST
DTSTART:20221106T060000
END:STANDARD
BEGIN:DAYLIGHT
TZOFFSETFROM:-0500
TZOFFSETTO:-0400
TZNAME:EDT
DTSTART:20230312T070000
END:DAYLIGHT
BEGIN:STANDARD
TZOFFSETFROM:-0400
TZOFFSETTO:-0500
TZNAME:EST
DTSTART:20231105T060000
END:STANDARD
BEGIN:DAYLIGHT
TZOFFSETFROM:-0500
TZOFFSETTO:-0400
TZNAME:EDT
DTSTART:20240310T070000
END:DAYLIGHT
BEGIN:STANDARD
TZOFFSETFROM:-0400
TZOFFSETTO:-0500
TZNAME:EST
DTSTART:20241103T060000
END:STANDARD
BEGIN:DAYLIGHT
TZOFFSETFROM:-0500
TZOFFSETTO:-0400
TZNAME:EDT
DTSTART:20250309T070000
END:DAYLIGHT
BEGIN:STANDARD
TZOFFSETFROM:-0400
TZOFFSETTO:-0500
TZNAME:EST
DTSTART:20251102T060000
END:STANDARD
END:VTIMEZONE
BEGIN:VTIMEZONE
TZID:America/Denver
BEGIN:DAYLIGHT
TZOFFSETFROM:-0700
TZOFFSETTO:-0600
TZNAME:MDT
DTSTART:20220313T090000
END:DAYLIGHT
BEGIN:STANDARD
TZOFFSETFROM:-0600
TZOFFSETTO:-0700
TZNAME:MST
DTSTART:20221106T080000
END:STANDARD
BEGIN:DAYLIGHT
TZOFFSETFROM:-0700
TZOFFSETTO:-0600
TZNAME:MDT
DTSTART:20230312T090000
END:DAYLIGHT
BEGIN:STANDARD
TZOFFSETFROM:-0600
TZOFFSETTO:-0700
TZNAME:MST
DTSTART:20231105T080000
END:STANDARD
BEGIN:DAYLIGHT
TZOFFSETFROM:-0700
TZOFFSETTO:-0600
TZNAME:MDT
DTSTART:20240310T090000
END:DAYLIGHT
BEGIN:STANDARD
TZOFFSETFROM:-0600
TZOFFSETTO:-0700
TZNAME:MST
DTSTART:20241103T080000
END:STANDARD
END:VTIMEZONE
BEGIN:VEVENT
DTSTART;TZID=America/New_York:20240417T173000
DTEND;TZID=America/New_York:20240417T190000
DTSTAMP:20260423T140801
CREATED:20240331T142817Z
LAST-MODIFIED:20240410T023515Z
UID:3496-1713375000-1713380400@www.showandtales.com
SUMMARY:Things That Matter: What one Thing brings you joy\, magic & meaning?
DESCRIPTION:What photo or object would tell a bit of your life story?  \nWe KNOW that the best things in life aren’t things…. but Things have a way of holding memories of the people\, places & experiences that make up the best things in our lives…. our cherished memories. \nMy friend\, former editor-in-chief of Life magazine\, Bill Shapiro & his partner Naomi Wax\, traveled the country asking people a simple question “What Thing brings you joy\, magic & meaning?”  Their beautiful book What We Keep (link) is a deeply moving representation of how objects can hold our most significant stories. \nLook around your home\, your office\, your self…. Every Thing has a story… what Thing(s) tell yours? \nDon’t focus on your “valuable” things…. Bill & Naomi found that no-one chose the Thing that brought them joy\, magic & meaning held any monetary value. Bill & Naomi found “Our hearts are not accountants; we cling to the meaningful\, not the monetary.” \nJoin me\, founder Diana Dunbar\, members of my 333 Collective community & YOU my extended community for an eve of story-sharing about the Thing that matters.\nWhat we’ll do in our Zoom call (link) with Martie McNabb:  \nCome with your one Thing to the call.  Martie will facilitate a story-sharing — asking questions like: \n–  How did it come into your life? \n–  Why do you keep it? \n–  What can someone learn about you through the story of this “thing”? \n–  What do you want to happen with this “thing” when you die? \nLearn about the amazing 333 Collective community of passionate women 50+ & our first in-person gathering\, Quest 2024\, happening May 6th & 7th in Bristol\, RI.
URL:https://www.showandtales.com/event/things-that-matter-333-edition/
LOCATION:Online via Zoom
CATEGORIES:Storysharing
ATTACH;FMTTYPE=image/jpeg:https://www.showandtales.com/wp-content/uploads/2023/06/THINGS-THAT-MATTER-2-TWITTER-FLYER.jpg
END:VEVENT
BEGIN:VEVENT
DTSTART;TZID=America/New_York:20230622T180000
DTEND;TZID=America/New_York:20230622T193000
DTSTAMP:20260423T140802
CREATED:20230611T210244Z
LAST-MODIFIED:20230613T135839Z
UID:3239-1687456800-1687462200@www.showandtales.com
SUMMARY:Things That Matter (Stoop Stories Edition)
DESCRIPTION:A Show & Tales all about the Things That Matter\nhosted by Martie McNabb with founder Marj Kleinman of Stoop Stories(tm).\nLook for us on Prospect Place between Underhill & Vanderbilt. Not far from Olmsted & Nourish Thai. \nRemember show and tell from elementary school? \nDo you hold onto an object of a loved one who has died? Perhaps you lost them during the pandemic or from long ago? How do you keep the memory of them alive? Bring any Thing that can tell a piece of your personal history to this Show & Tales for all ages.  \nIn honor of Pride Week\, we welcome Pride stuff & stories.  \nMy friends Bill Shapiro & his partner Naomi Wax\, traveled the country asking people a simple question “What Thing brings you joy\, magic & meaning?” Their beautiful book What We Keep is a deeply moving representation of how objects hold our most significant stories. \nLook around your home\, your office\, your self…. Every Thing has a story(c)… what Thing(s) tell yours? \nJoin us on the stoop to share YOUR story of a Thing that matters.\n We KNOW that the best things in life aren’t things…. but Things have a way of holding memories of the people\, places & experiences that make up the best things in our lives. \nShare a little bit of your personal history with neighbors & strangers through What We Keep aka Things That Matter. \nYou’re always welcome to look & listen. \nAll proceeds will be donated to Stoop Stories(tm)
URL:https://www.showandtales.com/event/things-that-matter/
LOCATION:Tom & Bob’s Stoop\, Prospect Place btw Underhill & Vanderbilt\, Brooklyn\, 11238
CATEGORIES:Storysharing
ATTACH;FMTTYPE=image/jpeg:https://www.showandtales.com/wp-content/uploads/2023/06/THINGS-THAT-MATTER-2-TWITTER-FLYER.jpg
END:VEVENT
BEGIN:VEVENT
DTSTART;TZID=America/Denver:20230212T163000
DTEND;TZID=America/Denver:20230212T180000
DTSTAMP:20260423T140802
CREATED:20230212T172312Z
LAST-MODIFIED:20230323T215406Z
UID:3126-1676219400-1676224800@www.showandtales.com
SUMMARY:Love Letters\, Lockets & Valentine's (Momo's Lounge)
DESCRIPTION:I’m thrilled to bring my second ABQ in-person Show & Tales to Momo’s Lounge at the Monterey Motel on Route 66! \nBring your own\, your parents or grandparents’ love letters\, lockets\, or valentines to show and tell. Or perhaps like me\, you have a few Valentine cards from elementary school? \nAnd what about those thank-you cards full of appreciation? Do you keep a particularly beautifully written sympathy card you received? \nOr a locket you inherited or even bought at a flea market that reminds you of a loved one? Did you save a box or a singular chalky Be Mine candy? \nPhotos\, notes\, cards\, letters\, books\, costumes & jewelry\, etc connected to LOVE that you’d like to share are welcome. Every Thing has a story. \nShow & Tale is like Antiques Roadshow meets The Moth\, or your favorite Pinterest board come to life! \nEveryone is welcome to share a short story of a Thing that matters. No judges\, no prizes\, no competition. And no need to practice! Just show your object and share its tale. \nJust want to come and listen? Awesome! Observers are always welcome.
URL:https://www.showandtales.com/event/love-letters-lockets-valentines-momos-lounge/
LOCATION:Momo’s Lounge at the Monterey Motel\, 2402 Central Ave SW\, Albuquerque\, NM\, 87104\, United States
CATEGORIES:Storysharing
ATTACH;FMTTYPE=image/jpeg:https://www.showandtales.com/wp-content/uploads/2020/05/LOVE-LETTERS-LOCKETS-FLYER.jpg
END:VEVENT
BEGIN:VEVENT
DTSTART;TZID=America/Denver:20230212T113000
DTEND;TZID=America/Denver:20230212T130000
DTSTAMP:20260423T140802
CREATED:20230212T171159Z
LAST-MODIFIED:20230323T215359Z
UID:3118-1676201400-1676206800@www.showandtales.com
SUMMARY:Love Letters\, Lockets & Valentine's (Rail Yards Market)
DESCRIPTION:I’m thrilled to bring my first ABQ in-person Show & Tales to the Valentine’s Market at the Rail Yards Market! \nBring your own\, your parents or grandparents’ love letters\, lockets\, or valentines to show and tell. Or perhaps like me\, you have a few Valentine cards from elementary school? \nAnd what about those thank-you cards full of appreciation? Do you keep a particularly beautifully written sympathy card you received? \nOr a locket you inherited or even bought at a flea market that reminds you of a loved one? Did you save a box or a singular chalky Be Mine candy? \nPhotos\, notes\, cards\, letters\, books\, costumes & jewelry\, etc connected to LOVE that you’d like to share are welcome. Every Thing has a story. \nShow & Tale is like Antiques Roadshow meets The Moth\, or your favorite Pinterest board come to life! \nEveryone is welcome to share a short story of a Thing that matters. No judges\, no prizes\, no competition. And no need to practice! Just show your object and share its tale. \nJust want to come and listen? Awesome! Observers are always welcome.
URL:https://www.showandtales.com/event/love-letters-lockets-valentines-railyardsmkt/
LOCATION:Rail Yards Market\, 777 1st Street SW\, Albuquerque\, NM\, 87102\, United States
CATEGORIES:Storysharing
ATTACH;FMTTYPE=image/jpeg:https://www.showandtales.com/wp-content/uploads/2020/05/LOVE-LETTERS-LOCKETS-FLYER.jpg
END:VEVENT
END:VCALENDAR